BEGIN:VCALENDAR
VERSION:2.0
PRODID:-//CNY Fertility - ECPv6.15.20//NONSGML v1.0//EN
CALSCALE:GREGORIAN
METHOD:PUBLISH
X-WR-CALNAME:CNY Fertility
X-ORIGINAL-URL:https://www.cnyfertility.com
X-WR-CALDESC:Events for CNY Fertility
REFRESH-INTERVAL;VALUE=DURATION:PT1H
X-Robots-Tag:noindex
X-PUBLISHED-TTL:PT1H
BEGIN:VTIMEZONE
TZID:America/New_York
BEGIN:DAYLIGHT
TZOFFSETFROM:-0500
TZOFFSETTO:-0400
TZNAME:EDT
DTSTART:20250309T070000
END:DAYLIGHT
BEGIN:STANDARD
TZOFFSETFROM:-0400
TZOFFSETTO:-0500
TZNAME:EST
DTSTART:20251102T060000
END:STANDARD
BEGIN:DAYLIGHT
TZOFFSETFROM:-0500
TZOFFSETTO:-0400
TZNAME:EDT
DTSTART:20260308T070000
END:DAYLIGHT
BEGIN:STANDARD
TZOFFSETFROM:-0400
TZOFFSETTO:-0500
TZNAME:EST
DTSTART:20261101T060000
END:STANDARD
BEGIN:DAYLIGHT
TZOFFSETFROM:-0500
TZOFFSETTO:-0400
TZNAME:EDT
DTSTART:20270314T070000
END:DAYLIGHT
BEGIN:STANDARD
TZOFFSETFROM:-0400
TZOFFSETTO:-0500
TZNAME:EST
DTSTART:20271107T060000
END:STANDARD
END:VTIMEZONE
BEGIN:VEVENT
DTSTART;TZID=America/New_York:20260429T130000
DTEND;TZID=America/New_York:20260429T140000
DTSTAMP:20260423T160746
CREATED:20260324T144629Z
LAST-MODIFIED:20260324T144629Z
UID:10098626-1777467600-1777471200@www.cnyfertility.com
SUMMARY:Essentials of Fertility Treatment Prep for Women
DESCRIPTION:Description\nThis webinar is designed to equip women with the tools they need for a healthier\, happier\, and ultimately more successful experience as they navigate this often complex and challenging journey. \nWHAT YOU’LL LEARN:  \n​MENTAL WELLNESS: Why it’s the cornerstone of successful fertility treatments and why prioritizing this is NOT optional \nMIND/BODY BENEFITS: How holistic practices can improve your odds \nLIMITS OF MEDICINE: Where traditional approaches may fall short \nTHE POWER OF CONTROL: What you can influence in your fertility journey \nHOW TO FIND JOY AGAIN: Reconnect with your life and body \nEND EMOTIONAL ROLLERCOASTERS: Learn how to manage hope and disappointment effectively \nFERTILE HOPE: How to save time\, money\, and heartache. Your fertility journey doesn’t have to be a maze. Let’s navigate it together. \nAbout Erin McCollough & Fertile Hope: Erin McCollough brings over 20 years of experience dedicated to women’s health and fertility. As the founder of Fertile Hope\, she has created a global community that offers affordable emotional and mental coping resources\, expert guidance\, and a supportive network for women navigating infertility. With a robust mind-body app\, Fertile Hope provides tools like yoga\, meditation\, and hypnotherapy to help women find peace and resilience on their journey to motherhood. \nWe look forward to having you attend the event! If you cannot attend the event live\, a recording will be available\, so make sure to register.
URL:https://www.cnyfertility.com/event/essentials-of-fertility-treatment-prep-for-women-26-apr-29/
CATEGORIES:Webinar
LOCATION:https://us06web.zoom.us/webinar/register/WN_cm_sdMBDQ6C25phm43n54Q
END:VEVENT
END:VCALENDAR