BEGIN:VCALENDAR
VERSION:2.0
PRODID:-//CNY Fertility - ECPv6.15.20//NONSGML v1.0//EN
CALSCALE:GREGORIAN
METHOD:PUBLISH
X-WR-CALNAME:CNY Fertility
X-ORIGINAL-URL:https://www.cnyfertility.com
X-WR-CALDESC:Events for CNY Fertility
REFRESH-INTERVAL;VALUE=DURATION:PT1H
X-Robots-Tag:noindex
X-PUBLISHED-TTL:PT1H
BEGIN:VTIMEZONE
TZID:America/New_York
BEGIN:DAYLIGHT
TZOFFSETFROM:-0500
TZOFFSETTO:-0400
TZNAME:EDT
DTSTART:20230312T070000
END:DAYLIGHT
BEGIN:STANDARD
TZOFFSETFROM:-0400
TZOFFSETTO:-0500
TZNAME:EST
DTSTART:20231105T060000
END:STANDARD
BEGIN:DAYLIGHT
TZOFFSETFROM:-0500
TZOFFSETTO:-0400
TZNAME:EDT
DTSTART:20240310T070000
END:DAYLIGHT
BEGIN:STANDARD
TZOFFSETFROM:-0400
TZOFFSETTO:-0500
TZNAME:EST
DTSTART:20241103T060000
END:STANDARD
BEGIN:DAYLIGHT
TZOFFSETFROM:-0500
TZOFFSETTO:-0400
TZNAME:EDT
DTSTART:20250309T070000
END:DAYLIGHT
BEGIN:STANDARD
TZOFFSETFROM:-0400
TZOFFSETTO:-0500
TZNAME:EST
DTSTART:20251102T060000
END:STANDARD
BEGIN:DAYLIGHT
TZOFFSETFROM:-0500
TZOFFSETTO:-0400
TZNAME:EDT
DTSTART:20260308T070000
END:DAYLIGHT
BEGIN:STANDARD
TZOFFSETFROM:-0400
TZOFFSETTO:-0500
TZNAME:EST
DTSTART:20261101T060000
END:STANDARD
END:VTIMEZONE
BEGIN:VEVENT
DTSTART;TZID=America/New_York:20250803T100000
DTEND;TZID=America/New_York:20250803T110000
DTSTAMP:20260423T191940
CREATED:20250519T175754Z
LAST-MODIFIED:20250519T180035Z
UID:10097967-1754215200-1754218800@www.cnyfertility.com
SUMMARY:The Fertile Fireside Chat with Dr. Robert Kiltz
DESCRIPTION:Join Dr. Kiltz for a weekly chat on all things fertility and infertility where he answers your questions\, discusses treatments and treatment protocols and how to improve your fertility naturally.  This chat is a great way to learn\, improve your fertility\, and join a fertile community whether you are preparing for treatment or still trying on your own.  We welcome everyone and are excited to share our knowledge and expertise with you.
URL:https://www.cnyfertility.com/event/the-fertile-fireside-chat-with-dr-robert-kiltz/2025-08-03/
CATEGORIES:Weekly
LOCATION:
END:VEVENT
BEGIN:VEVENT
DTSTART;TZID=America/New_York:20250727T100000
DTEND;TZID=America/New_York:20250727T110000
DTSTAMP:20260423T191940
CREATED:20250519T175754Z
LAST-MODIFIED:20250519T180035Z
UID:10097966-1753610400-1753614000@www.cnyfertility.com
SUMMARY:The Fertile Fireside Chat with Dr. Robert Kiltz
DESCRIPTION:Join Dr. Kiltz for a weekly chat on all things fertility and infertility where he answers your questions\, discusses treatments and treatment protocols and how to improve your fertility naturally.  This chat is a great way to learn\, improve your fertility\, and join a fertile community whether you are preparing for treatment or still trying on your own.  We welcome everyone and are excited to share our knowledge and expertise with you.
URL:https://www.cnyfertility.com/event/the-fertile-fireside-chat-with-dr-robert-kiltz/2025-07-27/
CATEGORIES:Weekly
LOCATION:
END:VEVENT
BEGIN:VEVENT
DTSTART;TZID=America/New_York:20250720T100000
DTEND;TZID=America/New_York:20250720T110000
DTSTAMP:20260423T191940
CREATED:20250519T175754Z
LAST-MODIFIED:20250519T180035Z
UID:10097965-1753005600-1753009200@www.cnyfertility.com
SUMMARY:The Fertile Fireside Chat with Dr. Robert Kiltz
DESCRIPTION:Join Dr. Kiltz for a weekly chat on all things fertility and infertility where he answers your questions\, discusses treatments and treatment protocols and how to improve your fertility naturally.  This chat is a great way to learn\, improve your fertility\, and join a fertile community whether you are preparing for treatment or still trying on your own.  We welcome everyone and are excited to share our knowledge and expertise with you.
URL:https://www.cnyfertility.com/event/the-fertile-fireside-chat-with-dr-robert-kiltz/2025-07-20/
CATEGORIES:Weekly
LOCATION:
END:VEVENT
BEGIN:VEVENT
DTSTART;TZID=America/New_York:20250713T100000
DTEND;TZID=America/New_York:20250713T110000
DTSTAMP:20260423T191940
CREATED:20250519T175754Z
LAST-MODIFIED:20250519T180035Z
UID:10097964-1752400800-1752404400@www.cnyfertility.com
SUMMARY:The Fertile Fireside Chat with Dr. Robert Kiltz
DESCRIPTION:Join Dr. Kiltz for a weekly chat on all things fertility and infertility where he answers your questions\, discusses treatments and treatment protocols and how to improve your fertility naturally.  This chat is a great way to learn\, improve your fertility\, and join a fertile community whether you are preparing for treatment or still trying on your own.  We welcome everyone and are excited to share our knowledge and expertise with you.
URL:https://www.cnyfertility.com/event/the-fertile-fireside-chat-with-dr-robert-kiltz/2025-07-13/
CATEGORIES:Weekly
LOCATION:
END:VEVENT
BEGIN:VEVENT
DTSTART;TZID=America/New_York:20250706T100000
DTEND;TZID=America/New_York:20250706T110000
DTSTAMP:20260423T191940
CREATED:20250519T175754Z
LAST-MODIFIED:20250519T180035Z
UID:10097963-1751796000-1751799600@www.cnyfertility.com
SUMMARY:The Fertile Fireside Chat with Dr. Robert Kiltz
DESCRIPTION:Join Dr. Kiltz for a weekly chat on all things fertility and infertility where he answers your questions\, discusses treatments and treatment protocols and how to improve your fertility naturally.  This chat is a great way to learn\, improve your fertility\, and join a fertile community whether you are preparing for treatment or still trying on your own.  We welcome everyone and are excited to share our knowledge and expertise with you.
URL:https://www.cnyfertility.com/event/the-fertile-fireside-chat-with-dr-robert-kiltz/2025-07-06/
CATEGORIES:Weekly
LOCATION:
END:VEVENT
BEGIN:VEVENT
DTSTART;TZID=America/New_York:20250629T100000
DTEND;TZID=America/New_York:20250629T110000
DTSTAMP:20260423T191940
CREATED:20250519T175754Z
LAST-MODIFIED:20250519T180035Z
UID:10097962-1751191200-1751194800@www.cnyfertility.com
SUMMARY:The Fertile Fireside Chat with Dr. Robert Kiltz
DESCRIPTION:Join Dr. Kiltz for a weekly chat on all things fertility and infertility where he answers your questions\, discusses treatments and treatment protocols and how to improve your fertility naturally.  This chat is a great way to learn\, improve your fertility\, and join a fertile community whether you are preparing for treatment or still trying on your own.  We welcome everyone and are excited to share our knowledge and expertise with you.
URL:https://www.cnyfertility.com/event/the-fertile-fireside-chat-with-dr-robert-kiltz/2025-06-29/
CATEGORIES:Weekly
LOCATION:
END:VEVENT
BEGIN:VEVENT
DTSTART;TZID=America/New_York:20250622T100000
DTEND;TZID=America/New_York:20250622T110000
DTSTAMP:20260423T191940
CREATED:20250519T175754Z
LAST-MODIFIED:20250519T180035Z
UID:10097961-1750586400-1750590000@www.cnyfertility.com
SUMMARY:The Fertile Fireside Chat with Dr. Robert Kiltz
DESCRIPTION:Join Dr. Kiltz for a weekly chat on all things fertility and infertility where he answers your questions\, discusses treatments and treatment protocols and how to improve your fertility naturally.  This chat is a great way to learn\, improve your fertility\, and join a fertile community whether you are preparing for treatment or still trying on your own.  We welcome everyone and are excited to share our knowledge and expertise with you.
URL:https://www.cnyfertility.com/event/the-fertile-fireside-chat-with-dr-robert-kiltz/2025-06-22/
CATEGORIES:Weekly
LOCATION:
END:VEVENT
BEGIN:VEVENT
DTSTART;TZID=America/New_York:20250615T100000
DTEND;TZID=America/New_York:20250615T110000
DTSTAMP:20260423T191940
CREATED:20250519T175754Z
LAST-MODIFIED:20250519T180035Z
UID:10097960-1749981600-1749985200@www.cnyfertility.com
SUMMARY:The Fertile Fireside Chat with Dr. Robert Kiltz
DESCRIPTION:Join Dr. Kiltz for a weekly chat on all things fertility and infertility where he answers your questions\, discusses treatments and treatment protocols and how to improve your fertility naturally.  This chat is a great way to learn\, improve your fertility\, and join a fertile community whether you are preparing for treatment or still trying on your own.  We welcome everyone and are excited to share our knowledge and expertise with you.
URL:https://www.cnyfertility.com/event/the-fertile-fireside-chat-with-dr-robert-kiltz/2025-06-15/
CATEGORIES:Weekly
LOCATION:
END:VEVENT
BEGIN:VEVENT
DTSTART;TZID=America/New_York:20250608T100000
DTEND;TZID=America/New_York:20250608T110000
DTSTAMP:20260423T191940
CREATED:20250519T175754Z
LAST-MODIFIED:20250519T180035Z
UID:10097959-1749376800-1749380400@www.cnyfertility.com
SUMMARY:The Fertile Fireside Chat with Dr. Robert Kiltz
DESCRIPTION:Join Dr. Kiltz for a weekly chat on all things fertility and infertility where he answers your questions\, discusses treatments and treatment protocols and how to improve your fertility naturally.  This chat is a great way to learn\, improve your fertility\, and join a fertile community whether you are preparing for treatment or still trying on your own.  We welcome everyone and are excited to share our knowledge and expertise with you.
URL:https://www.cnyfertility.com/event/the-fertile-fireside-chat-with-dr-robert-kiltz/2025-06-08/
CATEGORIES:Weekly
LOCATION:
END:VEVENT
BEGIN:VEVENT
DTSTART;TZID=America/New_York:20250601T100000
DTEND;TZID=America/New_York:20250601T110000
DTSTAMP:20260423T191940
CREATED:20250519T175754Z
LAST-MODIFIED:20250519T180035Z
UID:10097958-1748772000-1748775600@www.cnyfertility.com
SUMMARY:The Fertile Fireside Chat with Dr. Robert Kiltz
DESCRIPTION:Join Dr. Kiltz for a weekly chat on all things fertility and infertility where he answers your questions\, discusses treatments and treatment protocols and how to improve your fertility naturally.  This chat is a great way to learn\, improve your fertility\, and join a fertile community whether you are preparing for treatment or still trying on your own.  We welcome everyone and are excited to share our knowledge and expertise with you.
URL:https://www.cnyfertility.com/event/the-fertile-fireside-chat-with-dr-robert-kiltz/2025-06-01/
CATEGORIES:Weekly
LOCATION:
END:VEVENT
BEGIN:VEVENT
DTSTART;TZID=America/New_York:20250525T100000
DTEND;TZID=America/New_York:20250525T110000
DTSTAMP:20260423T191940
CREATED:20250519T175754Z
LAST-MODIFIED:20250519T180035Z
UID:10097957-1748167200-1748170800@www.cnyfertility.com
SUMMARY:The Fertile Fireside Chat with Dr. Robert Kiltz
DESCRIPTION:Join Dr. Kiltz for a weekly chat on all things fertility and infertility where he answers your questions\, discusses treatments and treatment protocols and how to improve your fertility naturally.  This chat is a great way to learn\, improve your fertility\, and join a fertile community whether you are preparing for treatment or still trying on your own.  We welcome everyone and are excited to share our knowledge and expertise with you.
URL:https://www.cnyfertility.com/event/the-fertile-fireside-chat-with-dr-robert-kiltz/2025-05-25/
CATEGORIES:Weekly
LOCATION:
END:VEVENT
BEGIN:VEVENT
DTSTART;TZID=America/New_York:20250518T100000
DTEND;TZID=America/New_York:20250518T110000
DTSTAMP:20260423T191940
CREATED:20250519T175754Z
LAST-MODIFIED:20250519T180035Z
UID:10097956-1747562400-1747566000@www.cnyfertility.com
SUMMARY:The Fertile Fireside Chat with Dr. Robert Kiltz
DESCRIPTION:Join Dr. Kiltz for a weekly chat on all things fertility and infertility where he answers your questions\, discusses treatments and treatment protocols and how to improve your fertility naturally.  This chat is a great way to learn\, improve your fertility\, and join a fertile community whether you are preparing for treatment or still trying on your own.  We welcome everyone and are excited to share our knowledge and expertise with you.
URL:https://www.cnyfertility.com/event/the-fertile-fireside-chat-with-dr-robert-kiltz/2025-05-18/
CATEGORIES:Weekly
LOCATION:
END:VEVENT
BEGIN:VEVENT
DTSTART;TZID=America/New_York:20250511T100000
DTEND;TZID=America/New_York:20250511T110000
DTSTAMP:20260423T191940
CREATED:20250519T175754Z
LAST-MODIFIED:20250519T180035Z
UID:10097955-1746957600-1746961200@www.cnyfertility.com
SUMMARY:The Fertile Fireside Chat with Dr. Robert Kiltz
DESCRIPTION:Join Dr. Kiltz for a weekly chat on all things fertility and infertility where he answers your questions\, discusses treatments and treatment protocols and how to improve your fertility naturally.  This chat is a great way to learn\, improve your fertility\, and join a fertile community whether you are preparing for treatment or still trying on your own.  We welcome everyone and are excited to share our knowledge and expertise with you.
URL:https://www.cnyfertility.com/event/the-fertile-fireside-chat-with-dr-robert-kiltz/2025-05-11/
CATEGORIES:Weekly
LOCATION:
END:VEVENT
BEGIN:VEVENT
DTSTART;TZID=America/New_York:20250504T100000
DTEND;TZID=America/New_York:20250504T110000
DTSTAMP:20260423T191940
CREATED:20250519T175754Z
LAST-MODIFIED:20250519T180035Z
UID:10097954-1746352800-1746356400@www.cnyfertility.com
SUMMARY:The Fertile Fireside Chat with Dr. Robert Kiltz
DESCRIPTION:Join Dr. Kiltz for a weekly chat on all things fertility and infertility where he answers your questions\, discusses treatments and treatment protocols and how to improve your fertility naturally.  This chat is a great way to learn\, improve your fertility\, and join a fertile community whether you are preparing for treatment or still trying on your own.  We welcome everyone and are excited to share our knowledge and expertise with you.
URL:https://www.cnyfertility.com/event/the-fertile-fireside-chat-with-dr-robert-kiltz/2025-05-04/
CATEGORIES:Weekly
LOCATION:
END:VEVENT
BEGIN:VEVENT
DTSTART;TZID=America/New_York:20240811T080000
DTEND;TZID=America/New_York:20240811T090000
DTSTAMP:20260423T191940
CREATED:20220823T175816Z
LAST-MODIFIED:20241030T170745Z
UID:10001513-1723363200-1723366800@www.cnyfertility.com
SUMMARY:40+ Fabulosa y Fértil
DESCRIPTION:¡Acompañe a nuestra querida Dra. Vardiales en vivo todos los segundos y cuartos domingos a las 8:00 a.m. EDT en la página de Facebook de CNY Fertility\, donde discutirá todo lo relacionado con la fertilidad para mujeres mayores de 40 años\, en español!
URL:https://www.cnyfertility.com/event/40-fabulosa-y-fertil/
LOCATION:CNY FERTILITY CENTER Online
CATEGORIES:Weekly
END:VEVENT
BEGIN:VEVENT
DTSTART;TZID=America/New_York:20240804T080000
DTEND;TZID=America/New_York:20240804T090000
DTSTAMP:20260423T191940
CREATED:20240815T135227Z
LAST-MODIFIED:20241030T170703Z
UID:10003004-1722758400-1722762000@www.cnyfertility.com
SUMMARY:40+ Fabulous and Fertile
DESCRIPTION:Join our own Dr. Verdiales every first and third Sunday at 8:00 a.m. EDT as she goes live on the CNY Fertility Facebook page to discuss all things fertility for women over 40!
URL:https://www.cnyfertility.com/event/40-fabulous-and-fertile/
LOCATION:CNY FERTILITY CENTER Online
CATEGORIES:Weekly
END:VEVENT
END:VCALENDAR