BEGIN:VCALENDAR
VERSION:2.0
PRODID:-//CNY Fertility - ECPv6.15.20//NONSGML v1.0//EN
CALSCALE:GREGORIAN
METHOD:PUBLISH
X-ORIGINAL-URL:https://www.cnyfertility.com
X-WR-CALDESC:Events for CNY Fertility
REFRESH-INTERVAL;VALUE=DURATION:PT1H
X-Robots-Tag:noindex
X-PUBLISHED-TTL:PT1H
BEGIN:VTIMEZONE
TZID:America/New_York
BEGIN:DAYLIGHT
TZOFFSETFROM:-0500
TZOFFSETTO:-0400
TZNAME:EDT
DTSTART:20240310T070000
END:DAYLIGHT
BEGIN:STANDARD
TZOFFSETFROM:-0400
TZOFFSETTO:-0500
TZNAME:EST
DTSTART:20241103T060000
END:STANDARD
BEGIN:DAYLIGHT
TZOFFSETFROM:-0500
TZOFFSETTO:-0400
TZNAME:EDT
DTSTART:20250309T070000
END:DAYLIGHT
BEGIN:STANDARD
TZOFFSETFROM:-0400
TZOFFSETTO:-0500
TZNAME:EST
DTSTART:20251102T060000
END:STANDARD
BEGIN:DAYLIGHT
TZOFFSETFROM:-0500
TZOFFSETTO:-0400
TZNAME:EDT
DTSTART:20260308T070000
END:DAYLIGHT
BEGIN:STANDARD
TZOFFSETFROM:-0400
TZOFFSETTO:-0500
TZNAME:EST
DTSTART:20261101T060000
END:STANDARD
END:VTIMEZONE
BEGIN:VEVENT
DTSTART;TZID=America/New_York:20251221T100000
DTEND;TZID=America/New_York:20251221T110000
DTSTAMP:20260423T173651
CREATED:20250519T175754Z
LAST-MODIFIED:20250519T180035Z
UID:10097987-1766311200-1766314800@www.cnyfertility.com
SUMMARY:The Fertile Fireside Chat with Dr. Robert Kiltz
DESCRIPTION:Join Dr. Kiltz for a weekly chat on all things fertility and infertility where he answers your questions\, discusses treatments and treatment protocols and how to improve your fertility naturally.  This chat is a great way to learn\, improve your fertility\, and join a fertile community whether you are preparing for treatment or still trying on your own.  We welcome everyone and are excited to share our knowledge and expertise with you.
URL:https://www.cnyfertility.com/event/the-fertile-fireside-chat-with-dr-robert-kiltz/2025-12-21/
CATEGORIES:Weekly
LOCATION:
END:VEVENT
BEGIN:VEVENT
DTSTART;TZID=America/New_York:20251219T120000
DTEND;TZID=America/New_York:20251219T130000
DTSTAMP:20260423T173651
CREATED:20251218T231751Z
LAST-MODIFIED:20251218T233211Z
UID:10098360-1766145600-1766149200@www.cnyfertility.com
SUMMARY:Support Through Loss
DESCRIPTION:This group serves to be a safe space to share experiences with one another in an understanding\, non-judgmental\, and supportive environment. Anyone affected by pregnancy loss is welcome to attend this group. Those who have experienced unsuccessful transfers or retrievals are also welcome to join us.
URL:https://www.cnyfertility.com/event/support-through-loss-dec19/
CATEGORIES:Weekly
LOCATION:https://us06web.zoom.us/j/89081213032
END:VEVENT
BEGIN:VEVENT
DTSTART;TZID=America/New_York:20251214T100000
DTEND;TZID=America/New_York:20251214T110000
DTSTAMP:20260423T173651
CREATED:20250519T175754Z
LAST-MODIFIED:20250519T180035Z
UID:10097986-1765706400-1765710000@www.cnyfertility.com
SUMMARY:The Fertile Fireside Chat with Dr. Robert Kiltz
DESCRIPTION:Join Dr. Kiltz for a weekly chat on all things fertility and infertility where he answers your questions\, discusses treatments and treatment protocols and how to improve your fertility naturally.  This chat is a great way to learn\, improve your fertility\, and join a fertile community whether you are preparing for treatment or still trying on your own.  We welcome everyone and are excited to share our knowledge and expertise with you.
URL:https://www.cnyfertility.com/event/the-fertile-fireside-chat-with-dr-robert-kiltz/2025-12-14/
CATEGORIES:Weekly
LOCATION:
END:VEVENT
BEGIN:VEVENT
DTSTART;TZID=America/New_York:20251207T100000
DTEND;TZID=America/New_York:20251207T110000
DTSTAMP:20260423T173651
CREATED:20250519T175754Z
LAST-MODIFIED:20250519T180035Z
UID:10097985-1765101600-1765105200@www.cnyfertility.com
SUMMARY:The Fertile Fireside Chat with Dr. Robert Kiltz
DESCRIPTION:Join Dr. Kiltz for a weekly chat on all things fertility and infertility where he answers your questions\, discusses treatments and treatment protocols and how to improve your fertility naturally.  This chat is a great way to learn\, improve your fertility\, and join a fertile community whether you are preparing for treatment or still trying on your own.  We welcome everyone and are excited to share our knowledge and expertise with you.
URL:https://www.cnyfertility.com/event/the-fertile-fireside-chat-with-dr-robert-kiltz/2025-12-07/
CATEGORIES:Weekly
LOCATION:
END:VEVENT
BEGIN:VEVENT
DTSTART;TZID=America/New_York:20251130T100000
DTEND;TZID=America/New_York:20251130T110000
DTSTAMP:20260423T173651
CREATED:20250519T175754Z
LAST-MODIFIED:20250519T180035Z
UID:10097984-1764496800-1764500400@www.cnyfertility.com
SUMMARY:The Fertile Fireside Chat with Dr. Robert Kiltz
DESCRIPTION:Join Dr. Kiltz for a weekly chat on all things fertility and infertility where he answers your questions\, discusses treatments and treatment protocols and how to improve your fertility naturally.  This chat is a great way to learn\, improve your fertility\, and join a fertile community whether you are preparing for treatment or still trying on your own.  We welcome everyone and are excited to share our knowledge and expertise with you.
URL:https://www.cnyfertility.com/event/the-fertile-fireside-chat-with-dr-robert-kiltz/2025-11-30/
CATEGORIES:Weekly
LOCATION:
END:VEVENT
BEGIN:VEVENT
DTSTART;TZID=America/New_York:20251123T100000
DTEND;TZID=America/New_York:20251123T110000
DTSTAMP:20260423T173651
CREATED:20250519T175754Z
LAST-MODIFIED:20250519T180035Z
UID:10097983-1763892000-1763895600@www.cnyfertility.com
SUMMARY:The Fertile Fireside Chat with Dr. Robert Kiltz
DESCRIPTION:Join Dr. Kiltz for a weekly chat on all things fertility and infertility where he answers your questions\, discusses treatments and treatment protocols and how to improve your fertility naturally.  This chat is a great way to learn\, improve your fertility\, and join a fertile community whether you are preparing for treatment or still trying on your own.  We welcome everyone and are excited to share our knowledge and expertise with you.
URL:https://www.cnyfertility.com/event/the-fertile-fireside-chat-with-dr-robert-kiltz/2025-11-23/
CATEGORIES:Weekly
LOCATION:
END:VEVENT
BEGIN:VEVENT
DTSTART;TZID=America/New_York:20251116T100000
DTEND;TZID=America/New_York:20251116T110000
DTSTAMP:20260423T173651
CREATED:20250519T175754Z
LAST-MODIFIED:20250519T180035Z
UID:10097982-1763287200-1763290800@www.cnyfertility.com
SUMMARY:The Fertile Fireside Chat with Dr. Robert Kiltz
DESCRIPTION:Join Dr. Kiltz for a weekly chat on all things fertility and infertility where he answers your questions\, discusses treatments and treatment protocols and how to improve your fertility naturally.  This chat is a great way to learn\, improve your fertility\, and join a fertile community whether you are preparing for treatment or still trying on your own.  We welcome everyone and are excited to share our knowledge and expertise with you.
URL:https://www.cnyfertility.com/event/the-fertile-fireside-chat-with-dr-robert-kiltz/2025-11-16/
CATEGORIES:Weekly
LOCATION:
END:VEVENT
BEGIN:VEVENT
DTSTART;TZID=America/New_York:20251109T100000
DTEND;TZID=America/New_York:20251109T110000
DTSTAMP:20260423T173651
CREATED:20250519T175754Z
LAST-MODIFIED:20250519T180035Z
UID:10097981-1762682400-1762686000@www.cnyfertility.com
SUMMARY:The Fertile Fireside Chat with Dr. Robert Kiltz
DESCRIPTION:Join Dr. Kiltz for a weekly chat on all things fertility and infertility where he answers your questions\, discusses treatments and treatment protocols and how to improve your fertility naturally.  This chat is a great way to learn\, improve your fertility\, and join a fertile community whether you are preparing for treatment or still trying on your own.  We welcome everyone and are excited to share our knowledge and expertise with you.
URL:https://www.cnyfertility.com/event/the-fertile-fireside-chat-with-dr-robert-kiltz/2025-11-09/
CATEGORIES:Weekly
LOCATION:
END:VEVENT
BEGIN:VEVENT
DTSTART;TZID=America/New_York:20251102T100000
DTEND;TZID=America/New_York:20251102T110000
DTSTAMP:20260423T173651
CREATED:20250519T175754Z
LAST-MODIFIED:20250519T180035Z
UID:10097980-1762077600-1762081200@www.cnyfertility.com
SUMMARY:The Fertile Fireside Chat with Dr. Robert Kiltz
DESCRIPTION:Join Dr. Kiltz for a weekly chat on all things fertility and infertility where he answers your questions\, discusses treatments and treatment protocols and how to improve your fertility naturally.  This chat is a great way to learn\, improve your fertility\, and join a fertile community whether you are preparing for treatment or still trying on your own.  We welcome everyone and are excited to share our knowledge and expertise with you.
URL:https://www.cnyfertility.com/event/the-fertile-fireside-chat-with-dr-robert-kiltz/2025-11-02/
CATEGORIES:Weekly
LOCATION:
END:VEVENT
BEGIN:VEVENT
DTSTART;TZID=America/New_York:20251026T100000
DTEND;TZID=America/New_York:20251026T110000
DTSTAMP:20260423T173651
CREATED:20250519T175754Z
LAST-MODIFIED:20250519T180035Z
UID:10097979-1761472800-1761476400@www.cnyfertility.com
SUMMARY:The Fertile Fireside Chat with Dr. Robert Kiltz
DESCRIPTION:Join Dr. Kiltz for a weekly chat on all things fertility and infertility where he answers your questions\, discusses treatments and treatment protocols and how to improve your fertility naturally.  This chat is a great way to learn\, improve your fertility\, and join a fertile community whether you are preparing for treatment or still trying on your own.  We welcome everyone and are excited to share our knowledge and expertise with you.
URL:https://www.cnyfertility.com/event/the-fertile-fireside-chat-with-dr-robert-kiltz/2025-10-26/
CATEGORIES:Weekly
LOCATION:
END:VEVENT
BEGIN:VEVENT
DTSTART;TZID=America/New_York:20251019T100000
DTEND;TZID=America/New_York:20251019T110000
DTSTAMP:20260423T173651
CREATED:20250519T175754Z
LAST-MODIFIED:20250519T180035Z
UID:10097978-1760868000-1760871600@www.cnyfertility.com
SUMMARY:The Fertile Fireside Chat with Dr. Robert Kiltz
DESCRIPTION:Join Dr. Kiltz for a weekly chat on all things fertility and infertility where he answers your questions\, discusses treatments and treatment protocols and how to improve your fertility naturally.  This chat is a great way to learn\, improve your fertility\, and join a fertile community whether you are preparing for treatment or still trying on your own.  We welcome everyone and are excited to share our knowledge and expertise with you.
URL:https://www.cnyfertility.com/event/the-fertile-fireside-chat-with-dr-robert-kiltz/2025-10-19/
CATEGORIES:Weekly
LOCATION:
END:VEVENT
BEGIN:VEVENT
DTSTART;TZID=America/New_York:20251012T100000
DTEND;TZID=America/New_York:20251012T110000
DTSTAMP:20260423T173651
CREATED:20250519T175754Z
LAST-MODIFIED:20250519T180035Z
UID:10097977-1760263200-1760266800@www.cnyfertility.com
SUMMARY:The Fertile Fireside Chat with Dr. Robert Kiltz
DESCRIPTION:Join Dr. Kiltz for a weekly chat on all things fertility and infertility where he answers your questions\, discusses treatments and treatment protocols and how to improve your fertility naturally.  This chat is a great way to learn\, improve your fertility\, and join a fertile community whether you are preparing for treatment or still trying on your own.  We welcome everyone and are excited to share our knowledge and expertise with you.
URL:https://www.cnyfertility.com/event/the-fertile-fireside-chat-with-dr-robert-kiltz/2025-10-12/
CATEGORIES:Weekly
LOCATION:
END:VEVENT
BEGIN:VEVENT
DTSTART;TZID=America/New_York:20251005T100000
DTEND;TZID=America/New_York:20251005T110000
DTSTAMP:20260423T173651
CREATED:20250519T175754Z
LAST-MODIFIED:20250519T180035Z
UID:10097976-1759658400-1759662000@www.cnyfertility.com
SUMMARY:The Fertile Fireside Chat with Dr. Robert Kiltz
DESCRIPTION:Join Dr. Kiltz for a weekly chat on all things fertility and infertility where he answers your questions\, discusses treatments and treatment protocols and how to improve your fertility naturally.  This chat is a great way to learn\, improve your fertility\, and join a fertile community whether you are preparing for treatment or still trying on your own.  We welcome everyone and are excited to share our knowledge and expertise with you.
URL:https://www.cnyfertility.com/event/the-fertile-fireside-chat-with-dr-robert-kiltz/2025-10-05/
CATEGORIES:Weekly
LOCATION:
END:VEVENT
BEGIN:VEVENT
DTSTART;TZID=America/New_York:20250928T100000
DTEND;TZID=America/New_York:20250928T110000
DTSTAMP:20260423T173651
CREATED:20250519T175754Z
LAST-MODIFIED:20250519T180035Z
UID:10097975-1759053600-1759057200@www.cnyfertility.com
SUMMARY:The Fertile Fireside Chat with Dr. Robert Kiltz
DESCRIPTION:Join Dr. Kiltz for a weekly chat on all things fertility and infertility where he answers your questions\, discusses treatments and treatment protocols and how to improve your fertility naturally.  This chat is a great way to learn\, improve your fertility\, and join a fertile community whether you are preparing for treatment or still trying on your own.  We welcome everyone and are excited to share our knowledge and expertise with you.
URL:https://www.cnyfertility.com/event/the-fertile-fireside-chat-with-dr-robert-kiltz/2025-09-28/
CATEGORIES:Weekly
LOCATION:
END:VEVENT
BEGIN:VEVENT
DTSTART;TZID=America/New_York:20250921T100000
DTEND;TZID=America/New_York:20250921T110000
DTSTAMP:20260423T173651
CREATED:20250519T175754Z
LAST-MODIFIED:20250519T180035Z
UID:10097974-1758448800-1758452400@www.cnyfertility.com
SUMMARY:The Fertile Fireside Chat with Dr. Robert Kiltz
DESCRIPTION:Join Dr. Kiltz for a weekly chat on all things fertility and infertility where he answers your questions\, discusses treatments and treatment protocols and how to improve your fertility naturally.  This chat is a great way to learn\, improve your fertility\, and join a fertile community whether you are preparing for treatment or still trying on your own.  We welcome everyone and are excited to share our knowledge and expertise with you.
URL:https://www.cnyfertility.com/event/the-fertile-fireside-chat-with-dr-robert-kiltz/2025-09-21/
CATEGORIES:Weekly
LOCATION:
END:VEVENT
BEGIN:VEVENT
DTSTART;TZID=America/New_York:20250914T100000
DTEND;TZID=America/New_York:20250914T110000
DTSTAMP:20260423T173651
CREATED:20250519T175754Z
LAST-MODIFIED:20250519T180035Z
UID:10097973-1757844000-1757847600@www.cnyfertility.com
SUMMARY:The Fertile Fireside Chat with Dr. Robert Kiltz
DESCRIPTION:Join Dr. Kiltz for a weekly chat on all things fertility and infertility where he answers your questions\, discusses treatments and treatment protocols and how to improve your fertility naturally.  This chat is a great way to learn\, improve your fertility\, and join a fertile community whether you are preparing for treatment or still trying on your own.  We welcome everyone and are excited to share our knowledge and expertise with you.
URL:https://www.cnyfertility.com/event/the-fertile-fireside-chat-with-dr-robert-kiltz/2025-09-14/
CATEGORIES:Weekly
LOCATION:
END:VEVENT
BEGIN:VEVENT
DTSTART;TZID=America/New_York:20250907T100000
DTEND;TZID=America/New_York:20250907T110000
DTSTAMP:20260423T173651
CREATED:20250519T175754Z
LAST-MODIFIED:20250519T180035Z
UID:10097972-1757239200-1757242800@www.cnyfertility.com
SUMMARY:The Fertile Fireside Chat with Dr. Robert Kiltz
DESCRIPTION:Join Dr. Kiltz for a weekly chat on all things fertility and infertility where he answers your questions\, discusses treatments and treatment protocols and how to improve your fertility naturally.  This chat is a great way to learn\, improve your fertility\, and join a fertile community whether you are preparing for treatment or still trying on your own.  We welcome everyone and are excited to share our knowledge and expertise with you.
URL:https://www.cnyfertility.com/event/the-fertile-fireside-chat-with-dr-robert-kiltz/2025-09-07/
CATEGORIES:Weekly
LOCATION:
END:VEVENT
BEGIN:VEVENT
DTSTART;TZID=America/New_York:20250831T100000
DTEND;TZID=America/New_York:20250831T110000
DTSTAMP:20260423T173651
CREATED:20250519T175754Z
LAST-MODIFIED:20250519T180035Z
UID:10097971-1756634400-1756638000@www.cnyfertility.com
SUMMARY:The Fertile Fireside Chat with Dr. Robert Kiltz
DESCRIPTION:Join Dr. Kiltz for a weekly chat on all things fertility and infertility where he answers your questions\, discusses treatments and treatment protocols and how to improve your fertility naturally.  This chat is a great way to learn\, improve your fertility\, and join a fertile community whether you are preparing for treatment or still trying on your own.  We welcome everyone and are excited to share our knowledge and expertise with you.
URL:https://www.cnyfertility.com/event/the-fertile-fireside-chat-with-dr-robert-kiltz/2025-08-31/
CATEGORIES:Weekly
LOCATION:
END:VEVENT
BEGIN:VEVENT
DTSTART;TZID=America/New_York:20250824T100000
DTEND;TZID=America/New_York:20250824T110000
DTSTAMP:20260423T173651
CREATED:20250519T175754Z
LAST-MODIFIED:20250519T180035Z
UID:10097970-1756029600-1756033200@www.cnyfertility.com
SUMMARY:The Fertile Fireside Chat with Dr. Robert Kiltz
DESCRIPTION:Join Dr. Kiltz for a weekly chat on all things fertility and infertility where he answers your questions\, discusses treatments and treatment protocols and how to improve your fertility naturally.  This chat is a great way to learn\, improve your fertility\, and join a fertile community whether you are preparing for treatment or still trying on your own.  We welcome everyone and are excited to share our knowledge and expertise with you.
URL:https://www.cnyfertility.com/event/the-fertile-fireside-chat-with-dr-robert-kiltz/2025-08-24/
CATEGORIES:Weekly
LOCATION:
END:VEVENT
BEGIN:VEVENT
DTSTART;TZID=America/New_York:20250817T100000
DTEND;TZID=America/New_York:20250817T110000
DTSTAMP:20260423T173651
CREATED:20250519T175754Z
LAST-MODIFIED:20250519T180035Z
UID:10097969-1755424800-1755428400@www.cnyfertility.com
SUMMARY:The Fertile Fireside Chat with Dr. Robert Kiltz
DESCRIPTION:Join Dr. Kiltz for a weekly chat on all things fertility and infertility where he answers your questions\, discusses treatments and treatment protocols and how to improve your fertility naturally.  This chat is a great way to learn\, improve your fertility\, and join a fertile community whether you are preparing for treatment or still trying on your own.  We welcome everyone and are excited to share our knowledge and expertise with you.
URL:https://www.cnyfertility.com/event/the-fertile-fireside-chat-with-dr-robert-kiltz/2025-08-17/
CATEGORIES:Weekly
LOCATION:
END:VEVENT
BEGIN:VEVENT
DTSTART;TZID=America/New_York:20250810T100000
DTEND;TZID=America/New_York:20250810T110000
DTSTAMP:20260423T173651
CREATED:20250519T175754Z
LAST-MODIFIED:20250519T180035Z
UID:10097968-1754820000-1754823600@www.cnyfertility.com
SUMMARY:The Fertile Fireside Chat with Dr. Robert Kiltz
DESCRIPTION:Join Dr. Kiltz for a weekly chat on all things fertility and infertility where he answers your questions\, discusses treatments and treatment protocols and how to improve your fertility naturally.  This chat is a great way to learn\, improve your fertility\, and join a fertile community whether you are preparing for treatment or still trying on your own.  We welcome everyone and are excited to share our knowledge and expertise with you.
URL:https://www.cnyfertility.com/event/the-fertile-fireside-chat-with-dr-robert-kiltz/2025-08-10/
CATEGORIES:Weekly
LOCATION:
END:VEVENT
BEGIN:VEVENT
DTSTART;TZID=America/New_York:20250803T100000
DTEND;TZID=America/New_York:20250803T110000
DTSTAMP:20260423T173651
CREATED:20250519T175754Z
LAST-MODIFIED:20250519T180035Z
UID:10097967-1754215200-1754218800@www.cnyfertility.com
SUMMARY:The Fertile Fireside Chat with Dr. Robert Kiltz
DESCRIPTION:Join Dr. Kiltz for a weekly chat on all things fertility and infertility where he answers your questions\, discusses treatments and treatment protocols and how to improve your fertility naturally.  This chat is a great way to learn\, improve your fertility\, and join a fertile community whether you are preparing for treatment or still trying on your own.  We welcome everyone and are excited to share our knowledge and expertise with you.
URL:https://www.cnyfertility.com/event/the-fertile-fireside-chat-with-dr-robert-kiltz/2025-08-03/
CATEGORIES:Weekly
LOCATION:
END:VEVENT
BEGIN:VEVENT
DTSTART;TZID=America/New_York:20250727T100000
DTEND;TZID=America/New_York:20250727T110000
DTSTAMP:20260423T173651
CREATED:20250519T175754Z
LAST-MODIFIED:20250519T180035Z
UID:10097966-1753610400-1753614000@www.cnyfertility.com
SUMMARY:The Fertile Fireside Chat with Dr. Robert Kiltz
DESCRIPTION:Join Dr. Kiltz for a weekly chat on all things fertility and infertility where he answers your questions\, discusses treatments and treatment protocols and how to improve your fertility naturally.  This chat is a great way to learn\, improve your fertility\, and join a fertile community whether you are preparing for treatment or still trying on your own.  We welcome everyone and are excited to share our knowledge and expertise with you.
URL:https://www.cnyfertility.com/event/the-fertile-fireside-chat-with-dr-robert-kiltz/2025-07-27/
CATEGORIES:Weekly
LOCATION:
END:VEVENT
BEGIN:VEVENT
DTSTART;TZID=America/New_York:20250720T100000
DTEND;TZID=America/New_York:20250720T110000
DTSTAMP:20260423T173651
CREATED:20250519T175754Z
LAST-MODIFIED:20250519T180035Z
UID:10097965-1753005600-1753009200@www.cnyfertility.com
SUMMARY:The Fertile Fireside Chat with Dr. Robert Kiltz
DESCRIPTION:Join Dr. Kiltz for a weekly chat on all things fertility and infertility where he answers your questions\, discusses treatments and treatment protocols and how to improve your fertility naturally.  This chat is a great way to learn\, improve your fertility\, and join a fertile community whether you are preparing for treatment or still trying on your own.  We welcome everyone and are excited to share our knowledge and expertise with you.
URL:https://www.cnyfertility.com/event/the-fertile-fireside-chat-with-dr-robert-kiltz/2025-07-20/
CATEGORIES:Weekly
LOCATION:
END:VEVENT
BEGIN:VEVENT
DTSTART;TZID=America/New_York:20250713T100000
DTEND;TZID=America/New_York:20250713T110000
DTSTAMP:20260423T173651
CREATED:20250519T175754Z
LAST-MODIFIED:20250519T180035Z
UID:10097964-1752400800-1752404400@www.cnyfertility.com
SUMMARY:The Fertile Fireside Chat with Dr. Robert Kiltz
DESCRIPTION:Join Dr. Kiltz for a weekly chat on all things fertility and infertility where he answers your questions\, discusses treatments and treatment protocols and how to improve your fertility naturally.  This chat is a great way to learn\, improve your fertility\, and join a fertile community whether you are preparing for treatment or still trying on your own.  We welcome everyone and are excited to share our knowledge and expertise with you.
URL:https://www.cnyfertility.com/event/the-fertile-fireside-chat-with-dr-robert-kiltz/2025-07-13/
CATEGORIES:Weekly
LOCATION:
END:VEVENT
BEGIN:VEVENT
DTSTART;TZID=America/New_York:20250706T100000
DTEND;TZID=America/New_York:20250706T110000
DTSTAMP:20260423T173651
CREATED:20250519T175754Z
LAST-MODIFIED:20250519T180035Z
UID:10097963-1751796000-1751799600@www.cnyfertility.com
SUMMARY:The Fertile Fireside Chat with Dr. Robert Kiltz
DESCRIPTION:Join Dr. Kiltz for a weekly chat on all things fertility and infertility where he answers your questions\, discusses treatments and treatment protocols and how to improve your fertility naturally.  This chat is a great way to learn\, improve your fertility\, and join a fertile community whether you are preparing for treatment or still trying on your own.  We welcome everyone and are excited to share our knowledge and expertise with you.
URL:https://www.cnyfertility.com/event/the-fertile-fireside-chat-with-dr-robert-kiltz/2025-07-06/
CATEGORIES:Weekly
LOCATION:
END:VEVENT
BEGIN:VEVENT
DTSTART;TZID=America/New_York:20250629T100000
DTEND;TZID=America/New_York:20250629T110000
DTSTAMP:20260423T173651
CREATED:20250519T175754Z
LAST-MODIFIED:20250519T180035Z
UID:10097962-1751191200-1751194800@www.cnyfertility.com
SUMMARY:The Fertile Fireside Chat with Dr. Robert Kiltz
DESCRIPTION:Join Dr. Kiltz for a weekly chat on all things fertility and infertility where he answers your questions\, discusses treatments and treatment protocols and how to improve your fertility naturally.  This chat is a great way to learn\, improve your fertility\, and join a fertile community whether you are preparing for treatment or still trying on your own.  We welcome everyone and are excited to share our knowledge and expertise with you.
URL:https://www.cnyfertility.com/event/the-fertile-fireside-chat-with-dr-robert-kiltz/2025-06-29/
CATEGORIES:Weekly
LOCATION:
END:VEVENT
BEGIN:VEVENT
DTSTART;TZID=America/New_York:20250622T100000
DTEND;TZID=America/New_York:20250622T110000
DTSTAMP:20260423T173651
CREATED:20250519T175754Z
LAST-MODIFIED:20250519T180035Z
UID:10097961-1750586400-1750590000@www.cnyfertility.com
SUMMARY:The Fertile Fireside Chat with Dr. Robert Kiltz
DESCRIPTION:Join Dr. Kiltz for a weekly chat on all things fertility and infertility where he answers your questions\, discusses treatments and treatment protocols and how to improve your fertility naturally.  This chat is a great way to learn\, improve your fertility\, and join a fertile community whether you are preparing for treatment or still trying on your own.  We welcome everyone and are excited to share our knowledge and expertise with you.
URL:https://www.cnyfertility.com/event/the-fertile-fireside-chat-with-dr-robert-kiltz/2025-06-22/
CATEGORIES:Weekly
LOCATION:
END:VEVENT
BEGIN:VEVENT
DTSTART;TZID=America/New_York:20250615T100000
DTEND;TZID=America/New_York:20250615T110000
DTSTAMP:20260423T173651
CREATED:20250519T175754Z
LAST-MODIFIED:20250519T180035Z
UID:10097960-1749981600-1749985200@www.cnyfertility.com
SUMMARY:The Fertile Fireside Chat with Dr. Robert Kiltz
DESCRIPTION:Join Dr. Kiltz for a weekly chat on all things fertility and infertility where he answers your questions\, discusses treatments and treatment protocols and how to improve your fertility naturally.  This chat is a great way to learn\, improve your fertility\, and join a fertile community whether you are preparing for treatment or still trying on your own.  We welcome everyone and are excited to share our knowledge and expertise with you.
URL:https://www.cnyfertility.com/event/the-fertile-fireside-chat-with-dr-robert-kiltz/2025-06-15/
CATEGORIES:Weekly
LOCATION:
END:VEVENT
BEGIN:VEVENT
DTSTART;TZID=America/New_York:20250608T100000
DTEND;TZID=America/New_York:20250608T110000
DTSTAMP:20260423T173651
CREATED:20250519T175754Z
LAST-MODIFIED:20250519T180035Z
UID:10097959-1749376800-1749380400@www.cnyfertility.com
SUMMARY:The Fertile Fireside Chat with Dr. Robert Kiltz
DESCRIPTION:Join Dr. Kiltz for a weekly chat on all things fertility and infertility where he answers your questions\, discusses treatments and treatment protocols and how to improve your fertility naturally.  This chat is a great way to learn\, improve your fertility\, and join a fertile community whether you are preparing for treatment or still trying on your own.  We welcome everyone and are excited to share our knowledge and expertise with you.
URL:https://www.cnyfertility.com/event/the-fertile-fireside-chat-with-dr-robert-kiltz/2025-06-08/
CATEGORIES:Weekly
LOCATION:
END:VEVENT
END:VCALENDAR