BEGIN:VCALENDAR
VERSION:2.0
PRODID:-//CNY Fertility - ECPv6.15.20//NONSGML v1.0//EN
CALSCALE:GREGORIAN
METHOD:PUBLISH
X-WR-CALNAME:CNY Fertility
X-ORIGINAL-URL:https://www.cnyfertility.com
X-WR-CALDESC:Events for CNY Fertility
REFRESH-INTERVAL;VALUE=DURATION:PT1H
X-Robots-Tag:noindex
X-PUBLISHED-TTL:PT1H
BEGIN:VTIMEZONE
TZID:America/New_York
BEGIN:DAYLIGHT
TZOFFSETFROM:-0500
TZOFFSETTO:-0400
TZNAME:EDT
DTSTART:20240310T070000
END:DAYLIGHT
BEGIN:STANDARD
TZOFFSETFROM:-0400
TZOFFSETTO:-0500
TZNAME:EST
DTSTART:20241103T060000
END:STANDARD
BEGIN:DAYLIGHT
TZOFFSETFROM:-0500
TZOFFSETTO:-0400
TZNAME:EDT
DTSTART:20250309T070000
END:DAYLIGHT
BEGIN:STANDARD
TZOFFSETFROM:-0400
TZOFFSETTO:-0500
TZNAME:EST
DTSTART:20251102T060000
END:STANDARD
BEGIN:DAYLIGHT
TZOFFSETFROM:-0500
TZOFFSETTO:-0400
TZNAME:EDT
DTSTART:20260308T070000
END:DAYLIGHT
BEGIN:STANDARD
TZOFFSETFROM:-0400
TZOFFSETTO:-0500
TZNAME:EST
DTSTART:20261101T060000
END:STANDARD
END:VTIMEZONE
BEGIN:VEVENT
DTSTART;TZID=America/New_York:20251105T130000
DTEND;TZID=America/New_York:20251105T140000
DTSTAMP:20260419T110647
CREATED:20250926T212158Z
LAST-MODIFIED:20251107T020623Z
UID:10098388-1762347600-1762351200@www.cnyfertility.com
SUMMARY:Paying for Fertility Treatments with CNY Fertility
DESCRIPTION:Join us for an essential and engaging webinar designed to help you navigate the financial landscape of fertility care at CNY Fertility. Whether you’re just beginning your journey or actively planning treatment\, this session will give you the knowledge and tools needed to make informed and confident financial decisions. \nWhat You’ll Learn: \n1. How to Prepare Financially Before Your Consultation\nLearn what to expect after booking your consult\, including a walk-through of the welcome materials and financial packet that will guide you through each step. \n2. Understanding Treatment Costs at CNY Fertility\nGet a detailed look at CNY’s transparent and affordable self-pay pricing for services such as IVF\, IUI\, egg freezing\, embryo storage\, and monitoring options. \n3. Maximizing Insurance Coverage\nLearn how to evaluate and understand your insurance policy\, navigate pre-authorization requirements\, and use helpful tools like the Insurance Coverage Worksheet and diagnosis codes to confirm benefits before treatment. \n4. Financing Options for Every Budget\nExplore self-funded financing solutions offered through CNY Fertility with no credit check required. \n5. Available Discounts & Special Programs\nDiscover how to take advantage of military discounts\, partner savings on donor eggs & sperm\, and payment-in-full savings. \n6. Next Steps and Financial Consultations\nLearn how your consult nurse navigator and financial team will guide you through a personalized financial consultation. \nAbout CNY Fertility: \nCNY Fertility\, founded by Dr. Robert Kiltz\, is a leader in providing affordable\, high-quality fertility care. Our mission with locations across the United States is to Make Priceless Affordable® by offering comprehensive fertility treatments with transparent pricing and personalized financial planning. \nRegister today to attend live or receive the event replay to watch at your convenience. \nClosed captioning is available with language translation.
URL:https://www.cnyfertility.com/event/paying-for-fertility-treatments-with-cny-fertility-5/
CATEGORIES:Onboarding
LOCATION:https://us06web.zoom.us/webinar/register/WN_8gSt2EONSmqZmA3qk3cq8A#/registration
END:VEVENT
BEGIN:VEVENT
DTSTART;TZID=America/New_York:20251106T110000
DTEND;TZID=America/New_York:20251106T120000
DTSTAMP:20260419T110647
CREATED:20250925T160404Z
LAST-MODIFIED:20250925T160404Z
UID:10098376-1762426800-1762430400@www.cnyfertility.com
SUMMARY:Next Steps After Your Consultation - Turn Your Post-Consult Plan Into Actionable Steps
DESCRIPTION:Just had your consultation? Don’t miss this essential webinar! Learn your next steps with CNY Fertility\, from testing and completing your consents to your financial agreement and treatment start. Can’t make it live? Register anyway and receive the full recording. \nWhat You’ll Learn: \n– Communication & Support:\nHow to reach the right CNY Fertility teams and use the patient portal effectively. \n– Treatment Plan & Options:\nThe details of your personalized treatment plan and what you need to know as your next steps to get ready for treatment. \n– Testing\, Consents & Clearances:\nEverything you need to know about diagnostic testing\, medical clearances\, and how to complete your consents. \n– Financial & Medications:\nGuidance on financial planning\, insurance coverage\, medication ordering\, and cycle preparation. \n– Monitoring & Treatment Cycle Start:\nUnderstanding your monitoring options and how to confidently begin treatment. \n-Lifestyle & Wellness Resources:\nNutrition\, supplements\, stress reduction\, yoga\, acupuncture\, and ongoing support opportunities at CNY Fertility. \nWhy Attend?\nAttending this webinar is essential to understanding your next steps after your consultation. You’ll leave with a clear roadmap\, helpful resources\, and answers to common questions that patients often have after their initial visit. \nCan’t attend live? No problem! A recording will be available to everyone who registers\, so you won’t miss a thing. \nClosed captions with language translation are available during this event.
URL:https://www.cnyfertility.com/event/next-steps-after-your-consultation-turn-your-post-consult-plan-into-actionable-steps-6/
CATEGORIES:Onboarding
LOCATION:https://us06web.zoom.us/webinar/register/WN_eTWGDL6LREK9ZFo2AyixBA
END:VEVENT
BEGIN:VEVENT
DTSTART;TZID=America/New_York:20251113T110000
DTEND;TZID=America/New_York:20251113T120000
DTSTAMP:20260419T110647
CREATED:20250925T160821Z
LAST-MODIFIED:20250925T160821Z
UID:10098377-1763031600-1763035200@www.cnyfertility.com
SUMMARY:Next Steps After Your Consultation - Turn Your Post-Consult Plan Into Actionable Steps
DESCRIPTION:Just had your consultation? Don’t miss this essential webinar! Learn your next steps with CNY Fertility\, from testing and completing your consents to your financial agreement and treatment start. Can’t make it live? Register anyway and receive the full recording. \nWhat You’ll Learn: \n– Communication & Support:\nHow to reach the right CNY Fertility teams and use the patient portal effectively. \n– Treatment Plan & Options:\nThe details of your personalized treatment plan and what you need to know as your next steps to get ready for treatment. \n– Testing\, Consents & Clearances:\nEverything you need to know about diagnostic testing\, medical clearances\, and how to complete your consents. \n– Financial & Medications:\nGuidance on financial planning\, insurance coverage\, medication ordering\, and cycle preparation. \n– Monitoring & Treatment Cycle Start:\nUnderstanding your monitoring options and how to confidently begin treatment. \n-Lifestyle & Wellness Resources:\nNutrition\, supplements\, stress reduction\, yoga\, acupuncture\, and ongoing support opportunities at CNY Fertility. \nWhy Attend?\nAttending this webinar is essential to understanding your next steps after your consultation. You’ll leave with a clear roadmap\, helpful resources\, and answers to common questions that patients often have after their initial visit. \nCan’t attend live? No problem! A recording will be available to everyone who registers\, so you won’t miss a thing. \nClosed captions with language translation are available during this event.
URL:https://www.cnyfertility.com/event/next-steps-after-your-consultation-turn-your-post-consult-plan-into-actionable-steps-7/
CATEGORIES:Onboarding
LOCATION:https://us06web.zoom.us/webinar/register/WN_i4ixVoVXRbqgPNPfV2UXYw
END:VEVENT
BEGIN:VEVENT
DTSTART;TZID=America/New_York:20251118T130000
DTEND;TZID=America/New_York:20251118T140000
DTSTAMP:20260419T110647
CREATED:20250926T212323Z
LAST-MODIFIED:20250926T213028Z
UID:10098389-1763470800-1763474400@www.cnyfertility.com
SUMMARY:Paying for Fertility Treatments with CNY Fertility
DESCRIPTION:Join us for an essential and engaging webinar designed to help you navigate the financial landscape of fertility care at CNY Fertility. Whether you’re just beginning your journey or actively planning treatment\, this session will give you the knowledge and tools needed to make informed and confident financial decisions. \nWhat You’ll Learn: \n1. How to Prepare Financially Before Your Consultation\nLearn what to expect after booking your consult\, including a walk-through of the welcome materials and financial packet that will guide you through each step. \n2. Understanding Treatment Costs at CNY Fertility\nGet a detailed look at CNY’s transparent and affordable self-pay pricing for services such as IVF\, IUI\, egg freezing\, embryo storage\, and monitoring options. \n3. Maximizing Insurance Coverage\nLearn how to evaluate and understand your insurance policy\, navigate pre-authorization requirements\, and use helpful tools like the Insurance Coverage Worksheet and diagnosis codes to confirm benefits before treatment. \n4. Financing Options for Every Budget\nExplore self-funded financing solutions offered through CNY Fertility with no credit check required. \n5. Available Discounts & Special Programs\nDiscover how to take advantage of military discounts\, partner savings on donor eggs & sperm\, and payment-in-full savings. \n6. Next Steps and Financial Consultations\nLearn how your consult nurse navigator and financial team will guide you through a personalized financial consultation. \nAbout CNY Fertility: \nCNY Fertility\, founded by Dr. Robert Kiltz\, is a leader in providing affordable\, high-quality fertility care. Our mission with locations across the United States is to Make Priceless Affordable® by offering comprehensive fertility treatments with transparent pricing and personalized financial planning. \nRegister today to attend live or receive the event replay to watch at your convenience. \nClosed captioning is available with language translation.
URL:https://www.cnyfertility.com/event/paying-for-fertility-treatments-with-cny-fertility-6/
CATEGORIES:Onboarding
LOCATION:https://us06web.zoom.us/webinar/register/WN_8O7Aca0YT-e26Q40jn-Rdg#/registration
END:VEVENT
END:VCALENDAR